BEGIN:VCALENDAR
VERSION:2.0
METHOD:PUBLISH
X-WR-CALNAME;VALUE=TEXT:
PRODID:-//Drupal iCal API//EN
BEGIN:VEVENT
2019-10-22 12:30:00 AEDT
2019-10-22 01:30:00 AEDT
DTSTART:20191021T133000Z
DTEND:20191021T143000Z
SUMMARY:Diversification of causes of death in low mortality countries
UID:18c8f201-18c7-4429-a2f2-89fcdaca4e47
URL:https://rsss.cass.anu.edu.au/events/diversification-causes-death-low-mortality-countries
END:VEVENT
END:VCALENDAR
