BEGIN:VCALENDAR
VERSION:2.0
METHOD:PUBLISH
X-WR-CALNAME;VALUE=TEXT:
PRODID:-//Drupal iCal API//EN
BEGIN:VEVENT
2019-12-10 03:00:00 AEDT
2019-12-10 04:30:00 AEDT
DTSTART:20191209T160000Z
DTEND:20191209T173000Z
SUMMARY:Smooth Constrained Mortality Forecasting
UID:7c244fcd-4dc9-4c24-a43b-38738cce00a5
URL:https://rsss.cass.anu.edu.au/events/smooth-constrained-mortality-forecasting
END:VEVENT
END:VCALENDAR
