BEGIN:VCALENDAR
VERSION:2.0
METHOD:PUBLISH
X-WR-CALNAME;VALUE=TEXT:
PRODID:-//Drupal iCal API//EN
BEGIN:VEVENT
2020-03-05 06:00:00 AEDT
2020-03-05 07:30:00 AEDT
DTSTART:20200304T190000Z
DTEND:20200304T203000Z
SUMMARY:Global Terrorism Index 2019 ANU launch
UID:ff8884e1-a447-4864-b35d-ff4304b8ddab
URL:https://rsss.cass.anu.edu.au/events/global-terrorism-index-2019-anu-launch
END:VEVENT
END:VCALENDAR
