BEGIN:VCALENDAR
VERSION:2.0
METHOD:PUBLISH
X-WR-CALNAME;VALUE=TEXT:
PRODID:-//Drupal iCal API//EN
BEGIN:VEVENT
2020-07-27 04:00:00 AEST
2020-07-27 04:00:00 AEST
DTSTART:20200726T180000Z
DTEND:20200726T180000Z
SUMMARY:Indigenous Research Methodologies in Science
UID:b9770d93-56f7-4790-8120-94ec701c6721
URL:https://rsss.cass.anu.edu.au/events/indigenous-research-methodologies-science
END:VEVENT
END:VCALENDAR
