BEGIN:VCALENDAR
VERSION:2.0
METHOD:PUBLISH
X-WR-CALNAME;VALUE=TEXT:
PRODID:-//Drupal iCal API//EN
BEGIN:VEVENT
2020-10-12 07:00:00 AEDT
2020-10-12 09:00:00 AEDT
DTSTART:20201011T200000Z
DTEND:20201011T220000Z
SUMMARY:Self-Calibration in a Digital Society
UID:478652b9-c96f-47d0-90aa-c9afc3b89509
URL:https://rsss.cass.anu.edu.au/events/self-calibration-digital-society
END:VEVENT
END:VCALENDAR
