BEGIN:VCALENDAR
VERSION:2.0
METHOD:PUBLISH
X-WR-CALNAME;VALUE=TEXT:
PRODID:-//Drupal iCal API//EN
BEGIN:VEVENT
2023-10-11 01:00:00 AEDT
2023-10-11 02:00:00 AEDT
DTSTART:20231010T140000Z
DTEND:20231010T150000Z
SUMMARY:Oct 11 - TBC
UID:19c55651-e36c-4aed-bd3a-a4712351be7f
URL:https://rsss.cass.anu.edu.au/events/oct-11-tbc
END:VEVENT
END:VCALENDAR
