BEGIN:VCALENDAR
VERSION:2.0
METHOD:PUBLISH
X-WR-CALNAME;VALUE=TEXT:
PRODID:-//Drupal iCal API//EN
BEGIN:VEVENT
2023-08-27 11:00:00 AEST
2023-08-28 07:00:00 AEST
DTSTART:20230827T130000Z
DTEND:20230827T210000Z
SUMMARY:2023 DEMO-ECR Symposium
UID:4f940f81-2f9e-43db-9aa2-b1fbcf53b528
URL:https://rsss.cass.anu.edu.au/events/2023-demo-ecr-symposium
END:VEVENT
END:VCALENDAR
