BEGIN:VCALENDAR
VERSION:2.0
METHOD:PUBLISH
X-WR-CALNAME;VALUE=TEXT:
PRODID:-//Drupal iCal API//EN
BEGIN:VEVENT
2023-08-30 03:00:00 AEST
2023-08-30 04:15:00 AEST
DTSTART:20230829T170000Z
DTEND:20230829T181500Z
SUMMARY:Environmental Exchanges Seminar - Devika Shankar
UID:9e864480-a624-41e4-832b-2d9882a81f5c
URL:https://rsss.cass.anu.edu.au/events/environmental-exchanges-seminar-devika-shankar
END:VEVENT
END:VCALENDAR
