BEGIN:VCALENDAR
VERSION:2.0
METHOD:PUBLISH
X-WR-CALNAME;VALUE=TEXT:
PRODID:-//Drupal iCal API//EN
BEGIN:VEVENT
2023-09-13 11:00:00 AEST
2023-09-15 07:30:00 AEST
DTSTART:20230913T130000Z
DTEND:20230914T213000Z
SUMMARY:Space &amp; Number in Animal Minds
UID:557ae01b-989a-4300-ae78-8d58423b165b
URL:https://rsss.cass.anu.edu.au/events/space-number-animal-minds
END:VEVENT
END:VCALENDAR
