BEGIN:VCALENDAR
VERSION:2.0
METHOD:PUBLISH
X-WR-CALNAME;VALUE=TEXT:
PRODID:-//Drupal iCal API//EN
BEGIN:VEVENT
2023-09-28 01:00:00 AEST
2023-09-28 02:30:00 AEST
DTSTART:20230927T150000Z
DTEND:20230927T163000Z
SUMMARY:Mapping China&#039;s Influence at the United Nations
UID:96f1b153-7a30-480b-a96e-8a05e0464a91
URL:https://rsss.cass.anu.edu.au/events/mapping-chinas-influence-united-nations
END:VEVENT
END:VCALENDAR
