BEGIN:VCALENDAR
VERSION:2.0
METHOD:PUBLISH
X-WR-CALNAME;VALUE=TEXT:
PRODID:-//Drupal iCal API//EN
BEGIN:VEVENT
2023-09-28 07:30:00 AEST
2023-09-28 09:30:00 AEST
DTSTART:20230927T213000Z
DTEND:20230927T233000Z
SUMMARY:Mad Knowledges and User-Led Research - A Conversation
UID:8442dba8-1683-4a70-974b-81f01ff86a32
URL:https://rsss.cass.anu.edu.au/events/mad-knowledges-and-user-led-research-conversation
END:VEVENT
END:VCALENDAR
