BEGIN:VCALENDAR
VERSION:2.0
METHOD:PUBLISH
X-WR-CALNAME;VALUE=TEXT:
PRODID:-//Drupal iCal API//EN
BEGIN:VEVENT
2023-10-11 05:15:00 AEDT
2023-10-11 06:30:00 AEDT
DTSTART:20231010T181500Z
DTEND:20231010T193000Z
SUMMARY:Protesting School Access for First Nations Communities, 1900s-1950s
UID:524c996b-a092-4b79-972c-55873fedddb8
URL:https://rsss.cass.anu.edu.au/events/protesting-school-access-first-nations-communities-1900s-1950s
END:VEVENT
END:VCALENDAR
