BEGIN:VCALENDAR
VERSION:2.0
METHOD:PUBLISH
X-WR-CALNAME;VALUE=TEXT:
PRODID:-//Drupal iCal API//EN
BEGIN:VEVENT
2023-10-17 10:30:00 AEDT
2023-10-17 11:45:00 AEDT
DTSTART:20231017T113000Z
DTEND:20231017T124500Z
SUMMARY:Environmental Exchanges Seminar - Lianne Leddy
UID:f9cc95cf-c2f5-45b5-972c-367f43a4ae67
URL:https://rsss.cass.anu.edu.au/events/environmental-exchanges-seminar-lianne-leddy
END:VEVENT
END:VCALENDAR
