BEGIN:VCALENDAR
VERSION:2.0
METHOD:PUBLISH
X-WR-CALNAME;VALUE=TEXT:
PRODID:-//Drupal iCal API//EN
BEGIN:VEVENT
2023-10-30 10:00:00 AEDT
2023-10-31 01:05:00 AEDT
DTSTART:20231030T110000Z
DTEND:20231030T140500Z
SUMMARY:TPR Presentation Day
UID:9d21392c-32d2-4909-ba4f-028d74df8737
URL:https://rsss.cass.anu.edu.au/events/tpr-presentation-day
END:VEVENT
END:VCALENDAR
