BEGIN:VCALENDAR
VERSION:2.0
METHOD:PUBLISH
X-WR-CALNAME;VALUE=TEXT:
PRODID:-//Drupal iCal API//EN
BEGIN:VEVENT
2023-11-16 10:00:00 AEDT
2023-11-17 05:00:00 AEDT
DTSTART:20231116T110000Z
DTEND:20231116T180000Z
SUMMARY:Reproduction Now! Workshop
UID:d4104435-0e55-413d-b805-3bd3bd13dce1
URL:https://rsss.cass.anu.edu.au/events/reproduction-now-workshop
END:VEVENT
END:VCALENDAR
