BEGIN:VCALENDAR
VERSION:2.0
METHOD:PUBLISH
X-WR-CALNAME;VALUE=TEXT:
PRODID:-//Drupal iCal API//EN
BEGIN:VEVENT
2023-08-01 08:00:00 AEST
2023-08-01 09:30:00 AEST
DTSTART:20230731T220000Z
DTEND:20230731T233000Z
SUMMARY:Australians as International Economic Thinkers
UID:419b2169-ec2b-4cf8-a932-3157458b6655
URL:https://rsss.cass.anu.edu.au/events/australians-international-economic-thinkers
END:VEVENT
END:VCALENDAR
