BEGIN:VCALENDAR
VERSION:2.0
METHOD:PUBLISH
X-WR-CALNAME;VALUE=TEXT:
PRODID:-//Drupal iCal API//EN
BEGIN:VEVENT
2020-06-25 04:00:00 AEST
2020-06-25 05:00:00 AEST
DTSTART:20200624T180000Z
DTEND:20200624T190000Z
SUMMARY:Masterclass on Statistical Academic Writing
UID:4dbbd332-0dcd-412e-a65d-8c3d94387f24
URL:https://rsss.cass.anu.edu.au/events/masterclass-statistical-academic-writing
END:VEVENT
END:VCALENDAR
