BEGIN:VCALENDAR
VERSION:2.0
METHOD:PUBLISH
X-WR-CALNAME;VALUE=TEXT:
PRODID:-//Drupal iCal API//EN
BEGIN:VEVENT
2025-09-11 11:30:00 AEST
2025-09-12 05:30:00 AEST
DTSTART:20250911T133000Z
DTEND:20250911T193000Z
SUMMARY:Symposium on Gender and Population
UID:f9c6095d-2e75-4f1a-8321-28ef2c7bf9db
URL:https://rsss.cass.anu.edu.au/events/symposium-gender-and-population
END:VEVENT
END:VCALENDAR
