BEGIN:VCALENDAR
VERSION:2.0
METHOD:PUBLISH
X-WR-CALNAME;VALUE=TEXT:
PRODID:-//Drupal iCal API//EN
BEGIN:VEVENT
2025-08-06 06:00:00 AEST
2025-08-06 07:15:00 AEST
DTSTART:20250805T200000Z
DTEND:20250805T211500Z
SUMMARY:Menzies Memories
UID:4e729f88-c6bb-492a-ac7f-7a56b2208542
URL:https://rsss.cass.anu.edu.au/events/menzies-memories
END:VEVENT
END:VCALENDAR
