BEGIN:VCALENDAR
VERSION:2.0
METHOD:PUBLISH
X-WR-CALNAME;VALUE=TEXT:
PRODID:-//Drupal iCal API//EN
BEGIN:VEVENT
2025-09-11 05:30:00 AEST
2025-09-11 07:00:00 AEST
DTSTART:20250910T193000Z
DTEND:20250910T210000Z
SUMMARY:Babies, Bots and the Birth of Consciousness
UID:ada5c9ae-382c-4667-931c-8b140a65c58e
URL:https://rsss.cass.anu.edu.au/events/babies-bots-and-birth-consciousness
END:VEVENT
END:VCALENDAR
