BEGIN:VCALENDAR
VERSION:2.0
METHOD:PUBLISH
X-WR-CALNAME;VALUE=TEXT:
PRODID:-//Drupal iCal API//EN
BEGIN:VEVENT
2025-09-25 01:00:00 AEST
2025-09-25 02:15:00 AEST
DTSTART:20250924T150000Z
DTEND:20250924T161500Z
SUMMARY:Revolutions are Back!
UID:c495b0bf-02ee-462d-b1c4-537cc72601a4
URL:https://rsss.cass.anu.edu.au/events/revolutions-are-back
END:VEVENT
END:VCALENDAR
