BEGIN:VCALENDAR
VERSION:2.0
METHOD:PUBLISH
X-WR-CALNAME;VALUE=TEXT:
PRODID:-//Drupal iCal API//EN
BEGIN:VEVENT
2025-10-16 04:30:00 AEDT
2025-10-16 06:00:00 AEDT
DTSTART:20251015T173000Z
DTEND:20251015T190000Z
SUMMARY:The Impropriety of Punishing Negligence in a Liberal State
UID:192329c9-7d89-450f-a9b1-5ef40bb65e32
URL:https://rsss.cass.anu.edu.au/events/impropriety-punishing-negligence-liberal-state
END:VEVENT
END:VCALENDAR
