BEGIN:VCALENDAR
VERSION:2.0
METHOD:PUBLISH
X-WR-CALNAME;VALUE=TEXT:
PRODID:-//Drupal iCal API//EN
BEGIN:VEVENT
2025-10-23 04:30:00 AEDT
2025-10-23 06:00:00 AEDT
DTSTART:20251022T173000Z
DTEND:20251022T190000Z
SUMMARY:Topic Continuity, Realism, and The Objects of Philosophical Inquiry
UID:8f1700cb-6c64-462f-95ac-d6ee7823f636
URL:https://rsss.cass.anu.edu.au/events/topic-continuity-realism-and-objects-philosophical-inquiry
END:VEVENT
END:VCALENDAR
