BEGIN:VCALENDAR
VERSION:2.0
METHOD:PUBLISH
X-WR-CALNAME;VALUE=TEXT:
PRODID:-//Drupal iCal API//EN
BEGIN:VEVENT
2026-04-09 02:00:00 AEST
2026-04-09 03:30:00 AEST
DTSTART:20260408T160000Z
DTEND:20260408T173000Z
SUMMARY:Climate’s Computational Infrastructures
UID:fb628e2d-2111-43db-8ec2-23e845d0796b
URL:https://rsss.cass.anu.edu.au/events/climates-computational-infrastructures
END:VEVENT
END:VCALENDAR
